BEGIN:VCALENDAR
VERSION:2.0
PRODID:spatie/icalendar-generator
BEGIN:VTIMEZONE
TZID:Europe/Zurich
BEGIN:DAYLIGHT
DTSTART:20260329T020000
TZOFFSETFROM:+0100
TZOFFSETTO:+0200
END:DAYLIGHT
BEGIN:STANDARD
DTSTART:20261025T030000
TZOFFSETFROM:+0200
TZOFFSETTO:+0100
END:STANDARD
END:VTIMEZONE
BEGIN:VTIMEZONE
TZID:UTC
BEGIN:STANDARD
DTSTART:20250726T072613
TZOFFSETFROM:+0000
TZOFFSETTO:+0000
END:STANDARD
END:VTIMEZONE
BEGIN:VEVENT
UID:69e8781541327
DTSTAMP:20260422T072613Z
SUMMARY:CAS Verwaltungsrat: Infoanlass im August
DESCRIPTION:Link zum Event: https://www.rochester-bern.ch/de/events/cas-ver
 waltungsrat-infoanlass-im-august-3/
LOCATION:Online
DTSTART;TZID=Europe/Zurich:20260831T170000
DTEND;TZID=Europe/Zurich:20260831T180000
END:VEVENT
END:VCALENDAR