BEGIN:VCALENDAR
VERSION:2.0
PRODID:spatie/icalendar-generator
BEGIN:VTIMEZONE
TZID:Europe/Zurich
BEGIN:DAYLIGHT
DTSTART:20260329T020000
TZOFFSETFROM:+0100
TZOFFSETTO:+0200
END:DAYLIGHT
BEGIN:STANDARD
DTSTART:20261025T030000
TZOFFSETFROM:+0200
TZOFFSETTO:+0100
END:STANDARD
BEGIN:DAYLIGHT
DTSTART:20270328T020000
TZOFFSETFROM:+0100
TZOFFSETTO:+0200
END:DAYLIGHT
END:VTIMEZONE
BEGIN:VTIMEZONE
TZID:UTC
BEGIN:STANDARD
DTSTART:20250726T071410
TZOFFSETFROM:+0000
TZOFFSETTO:+0000
END:STANDARD
END:VTIMEZONE
BEGIN:VEVENT
UID:69e87542b450a
DTSTAMP:20260422T071410Z
SUMMARY:CAS Verwaltungsrat: Infoanlass im November
DESCRIPTION:Link zum Event: https://www.rochester-bern.ch/de/events/cas-ver
 waltungsrat-infoanlass-im-november-2/
LOCATION:Online
DTSTART;TZID=Europe/Zurich:20261112T170000
DTEND;TZID=Europe/Zurich:20261112T180000
END:VEVENT
END:VCALENDAR